BEGIN:VCALENDAR
VERSION:2.0
PRODID:-//Award-winning author and journalist, creator of the Magical Mister Mishkins™ series - ECPv6.15.20//NONSGML v1.0//EN
CALSCALE:GREGORIAN
METHOD:PUBLISH
X-WR-CALNAME:Award-winning author and journalist, creator of the Magical Mister Mishkins™ series
X-ORIGINAL-URL:https://samanthamattocks.com
X-WR-CALDESC:Events for Award-winning author and journalist, creator of the Magical Mister Mishkins™ series
REFRESH-INTERVAL;VALUE=DURATION:PT1H
X-Robots-Tag:noindex
X-PUBLISHED-TTL:PT1H
BEGIN:VTIMEZONE
TZID:Europe/London
BEGIN:DAYLIGHT
TZOFFSETFROM:+0000
TZOFFSETTO:+0100
TZNAME:BST
DTSTART:20250330T010000
END:DAYLIGHT
BEGIN:STANDARD
TZOFFSETFROM:+0100
TZOFFSETTO:+0000
TZNAME:GMT
DTSTART:20251026T010000
END:STANDARD
BEGIN:DAYLIGHT
TZOFFSETFROM:+0000
TZOFFSETTO:+0100
TZNAME:BST
DTSTART:20260329T010000
END:DAYLIGHT
BEGIN:STANDARD
TZOFFSETFROM:+0100
TZOFFSETTO:+0000
TZNAME:GMT
DTSTART:20261025T010000
END:STANDARD
BEGIN:DAYLIGHT
TZOFFSETFROM:+0000
TZOFFSETTO:+0100
TZNAME:BST
DTSTART:20270328T010000
END:DAYLIGHT
BEGIN:STANDARD
TZOFFSETFROM:+0100
TZOFFSETTO:+0000
TZNAME:GMT
DTSTART:20271031T010000
END:STANDARD
END:VTIMEZONE
BEGIN:VEVENT
DTSTART;TZID=Europe/London:20260531T100000
DTEND;TZID=Europe/London:20260531T150000
DTSTAMP:20260426T014922
CREATED:20260425T143715Z
LAST-MODIFIED:20260425T143715Z
UID:1892-1780221600-1780239600@samanthamattocks.com
SUMMARY:Anglian Authors Festival - Sudbury
DESCRIPTION:Anglian Authors Book Fair
URL:https://samanthamattocks.com/event/anglian-authors-festival-sudbury
LOCATION:Sudbury Arts Centre
CATEGORIES:Book Fair
ATTACH;FMTTYPE=image/jpeg:https://samanthamattocks.com/wp-content/uploads/2026/04/Sudbury.jpg
END:VEVENT
END:VCALENDAR